BEGIN:VCALENDAR
VERSION:2.0
PRODID:-//Texas Heritage Vineyards - ECPv6.15.20//NONSGML v1.0//EN
CALSCALE:GREGORIAN
METHOD:PUBLISH
X-WR-CALNAME:Texas Heritage Vineyards
X-ORIGINAL-URL:https://www.texasheritagevineyard.com
X-WR-CALDESC:Events for Texas Heritage Vineyards
REFRESH-INTERVAL;VALUE=DURATION:PT1H
X-Robots-Tag:noindex
X-PUBLISHED-TTL:PT1H
BEGIN:VTIMEZONE
TZID:America/Chicago
BEGIN:DAYLIGHT
TZOFFSETFROM:-0600
TZOFFSETTO:-0500
TZNAME:CDT
DTSTART:20240310T080000
END:DAYLIGHT
BEGIN:STANDARD
TZOFFSETFROM:-0500
TZOFFSETTO:-0600
TZNAME:CST
DTSTART:20241103T070000
END:STANDARD
BEGIN:DAYLIGHT
TZOFFSETFROM:-0600
TZOFFSETTO:-0500
TZNAME:CDT
DTSTART:20250309T080000
END:DAYLIGHT
BEGIN:STANDARD
TZOFFSETFROM:-0500
TZOFFSETTO:-0600
TZNAME:CST
DTSTART:20251102T070000
END:STANDARD
BEGIN:DAYLIGHT
TZOFFSETFROM:-0600
TZOFFSETTO:-0500
TZNAME:CDT
DTSTART:20260308T080000
END:DAYLIGHT
BEGIN:STANDARD
TZOFFSETFROM:-0500
TZOFFSETTO:-0600
TZNAME:CST
DTSTART:20261101T070000
END:STANDARD
END:VTIMEZONE
BEGIN:VEVENT
DTSTART;TZID=America/Chicago:20251123T120000
DTEND;TZID=America/Chicago:20251123T160000
DTSTAMP:20260423T050538
CREATED:20250127T165124Z
LAST-MODIFIED:20250127T165124Z
UID:818-1763899200-1763913600@www.texasheritagevineyard.com
SUMMARY:Winter Wine Club Pick-Up Party!
DESCRIPTION:
URL:https://www.texasheritagevineyard.com/event/winter-wine-club-pick-up-party/
LOCATION:Texas Heritage Vineyard/Winery\, 3750 Grapetown Rd\, Fredericksburg\, TX\, 78624\, United States
END:VEVENT
BEGIN:VEVENT
DTSTART;TZID=America/Chicago:20251123T130000
DTEND;TZID=America/Chicago:20251123T170000
DTSTAMP:20260423T050538
CREATED:20251015T174046Z
LAST-MODIFIED:20251015T174107Z
UID:1007-1763902800-1763917200@www.texasheritagevineyard.com
SUMMARY:Winter Wine Club Release Party!
DESCRIPTION:Food prepared by Rex’s Kitchen. Music by Kenny Grimes Trio.
URL:https://www.texasheritagevineyard.com/event/winter-wine-club-release-party/
LOCATION:Texas Heritage Vineyard Tasting Room
END:VEVENT
END:VCALENDAR