BEGIN:VCALENDAR
VERSION:2.0
PRODID:-//Texas Heritage Vineyards - ECPv6.15.20//NONSGML v1.0//EN
CALSCALE:GREGORIAN
METHOD:PUBLISH
X-WR-CALNAME:Texas Heritage Vineyards
X-ORIGINAL-URL:https://www.texasheritagevineyard.com
X-WR-CALDESC:Events for Texas Heritage Vineyards
REFRESH-INTERVAL;VALUE=DURATION:PT1H
X-Robots-Tag:noindex
X-PUBLISHED-TTL:PT1H
BEGIN:VTIMEZONE
TZID:America/Chicago
BEGIN:DAYLIGHT
TZOFFSETFROM:-0600
TZOFFSETTO:-0500
TZNAME:CDT
DTSTART:20230312T080000
END:DAYLIGHT
BEGIN:STANDARD
TZOFFSETFROM:-0500
TZOFFSETTO:-0600
TZNAME:CST
DTSTART:20231105T070000
END:STANDARD
BEGIN:DAYLIGHT
TZOFFSETFROM:-0600
TZOFFSETTO:-0500
TZNAME:CDT
DTSTART:20240310T080000
END:DAYLIGHT
BEGIN:STANDARD
TZOFFSETFROM:-0500
TZOFFSETTO:-0600
TZNAME:CST
DTSTART:20241103T070000
END:STANDARD
BEGIN:DAYLIGHT
TZOFFSETFROM:-0600
TZOFFSETTO:-0500
TZNAME:CDT
DTSTART:20250309T080000
END:DAYLIGHT
BEGIN:STANDARD
TZOFFSETFROM:-0500
TZOFFSETTO:-0600
TZNAME:CST
DTSTART:20251102T070000
END:STANDARD
END:VTIMEZONE
BEGIN:VEVENT
DTSTART;TZID=America/Chicago:20240404T170000
DTEND;TZID=America/Chicago:20240404T183000
DTSTAMP:20260421T084820
CREATED:20240304T220018Z
LAST-MODIFIED:20240304T220018Z
UID:669-1712250000-1712255400@www.texasheritagevineyard.com
SUMMARY:Happy Hour!
DESCRIPTION:Join us for Happy Hour every Thursday. We will have a featured wine cocktail every month.
URL:https://www.texasheritagevineyard.com/event/happy-hour-4/
LOCATION:Texas Heritage Vineyard Tasting Room
END:VEVENT
BEGIN:VEVENT
DTSTART;TZID=America/Chicago:20240405T140000
DTEND;TZID=America/Chicago:20240405T160000
DTSTAMP:20260421T084820
CREATED:20240313T150359Z
LAST-MODIFIED:20240313T150359Z
UID:672-1712325600-1712332800@www.texasheritagevineyard.com
SUMMARY:Live Music Featuring: Andie Kay Joyner
DESCRIPTION:
URL:https://www.texasheritagevineyard.com/event/live-music-featuring-andie-kay-joyner-2/
LOCATION:Texas Heritage Vineyard Tasting Room
END:VEVENT
BEGIN:VEVENT
DTSTART;TZID=America/Chicago:20240408T110000
DTEND;TZID=America/Chicago:20240408T170000
DTSTAMP:20260421T084820
CREATED:20240313T150847Z
LAST-MODIFIED:20240313T151243Z
UID:673-1712574000-1712595600@www.texasheritagevineyard.com
SUMMARY:Yips & Sips at the Eclipse: All-Day Music Line-Up!
DESCRIPTION:Live Music Featuring: \nLibby Koch\nShAnnie and Woody Eastman\nSusan Gibson\nWalt and Tina Wilkins\nThe Outlaw Firm – Mike Blakely\, John M GreenBerg & Jake Martin \n  \n  \nTickets Available for purchase HERE.
URL:https://www.texasheritagevineyard.com/event/live-music-featuring-dan-west-7/
LOCATION:Texas Heritage Vineyard Tasting Room
END:VEVENT
BEGIN:VEVENT
DTSTART;TZID=America/Chicago:20240411T170000
DTEND;TZID=America/Chicago:20240411T183000
DTSTAMP:20260421T084820
CREATED:20240304T220241Z
LAST-MODIFIED:20240304T220241Z
UID:670-1712854800-1712860200@www.texasheritagevineyard.com
SUMMARY:Happy Hour!
DESCRIPTION:Join us for Happy Hour every Thursday. We will have a featured wine cocktail every month.
URL:https://www.texasheritagevineyard.com/event/happy-hour-5/
LOCATION:Texas Heritage Vineyard Tasting Room
END:VEVENT
BEGIN:VEVENT
DTSTART;TZID=America/Chicago:20240412T140000
DTEND;TZID=America/Chicago:20240412T160000
DTSTAMP:20260421T084820
CREATED:20240313T151355Z
LAST-MODIFIED:20240313T151532Z
UID:675-1712930400-1712937600@www.texasheritagevineyard.com
SUMMARY:Live Music Featuring: Bill & Mary Muse
DESCRIPTION:
URL:https://www.texasheritagevineyard.com/event/live-music-featuring-bill-mary-muse/
LOCATION:Texas Heritage Vineyard Tasting Room
END:VEVENT
BEGIN:VEVENT
DTSTART;TZID=America/Chicago:20240414T140000
DTEND;TZID=America/Chicago:20240414T160000
DTSTAMP:20260421T084820
CREATED:20240313T152008Z
LAST-MODIFIED:20240313T152008Z
UID:676-1713103200-1713110400@www.texasheritagevineyard.com
SUMMARY:Live Music Featuring: Tommy Alverson
DESCRIPTION:
URL:https://www.texasheritagevineyard.com/event/live-music-featuring-tommy-alverson-2/
LOCATION:Texas Heritage Vineyard Tasting Room
END:VEVENT
BEGIN:VEVENT
DTSTART;TZID=America/Chicago:20240419T140000
DTEND;TZID=America/Chicago:20240419T160000
DTSTAMP:20260421T084820
CREATED:20240313T152825Z
LAST-MODIFIED:20240313T152825Z
UID:677-1713535200-1713542400@www.texasheritagevineyard.com
SUMMARY:Live Music Featuring: Tina Wilkins & Ron Flynt
DESCRIPTION:
URL:https://www.texasheritagevineyard.com/event/live-music-featuring-tina-wilkins-ron-flynt/
LOCATION:Texas Heritage Vineyard Tasting Room
END:VEVENT
BEGIN:VEVENT
DTSTART;TZID=America/Chicago:20240421T140000
DTEND;TZID=America/Chicago:20240421T160000
DTSTAMP:20260421T084820
CREATED:20240313T203528Z
LAST-MODIFIED:20240313T203528Z
UID:678-1713708000-1713715200@www.texasheritagevineyard.com
SUMMARY:Live Music Featuring: Pauline Reees
DESCRIPTION:
URL:https://www.texasheritagevineyard.com/event/live-music-featuring-pauline-reees/
LOCATION:Texas Heritage Vineyard Tasting Room
END:VEVENT
BEGIN:VEVENT
DTSTART;TZID=America/Chicago:20240426T140000
DTEND;TZID=America/Chicago:20240426T160000
DTSTAMP:20260421T084820
CREATED:20240313T203606Z
LAST-MODIFIED:20240313T203606Z
UID:679-1714140000-1714147200@www.texasheritagevineyard.com
SUMMARY:Live Music Featuring: Chad Richard
DESCRIPTION:
URL:https://www.texasheritagevineyard.com/event/live-music-featuring-chad-richard-6/
LOCATION:Texas Heritage Vineyard Tasting Room
END:VEVENT
BEGIN:VEVENT
DTSTART;TZID=America/Chicago:20240428T140000
DTEND;TZID=America/Chicago:20240428T160000
DTSTAMP:20260421T084820
CREATED:20240313T203823Z
LAST-MODIFIED:20240313T203823Z
UID:680-1714312800-1714320000@www.texasheritagevineyard.com
SUMMARY:Live Music Featuring: Justin McFarland
DESCRIPTION:
URL:https://www.texasheritagevineyard.com/event/live-music-featuring-justin-mcfarland-3/
LOCATION:Texas Heritage Vineyard Tasting Room
END:VEVENT
END:VCALENDAR