BEGIN:VCALENDAR
VERSION:2.0
PRODID:-//Texas Heritage Vineyards - ECPv6.15.20//NONSGML v1.0//EN
CALSCALE:GREGORIAN
METHOD:PUBLISH
X-ORIGINAL-URL:https://www.texasheritagevineyard.com
X-WR-CALDESC:Events for Texas Heritage Vineyards
REFRESH-INTERVAL;VALUE=DURATION:PT1H
X-Robots-Tag:noindex
X-PUBLISHED-TTL:PT1H
BEGIN:VTIMEZONE
TZID:America/Chicago
BEGIN:DAYLIGHT
TZOFFSETFROM:-0600
TZOFFSETTO:-0500
TZNAME:CDT
DTSTART:20230312T080000
END:DAYLIGHT
BEGIN:STANDARD
TZOFFSETFROM:-0500
TZOFFSETTO:-0600
TZNAME:CST
DTSTART:20231105T070000
END:STANDARD
BEGIN:DAYLIGHT
TZOFFSETFROM:-0600
TZOFFSETTO:-0500
TZNAME:CDT
DTSTART:20240310T080000
END:DAYLIGHT
BEGIN:STANDARD
TZOFFSETFROM:-0500
TZOFFSETTO:-0600
TZNAME:CST
DTSTART:20241103T070000
END:STANDARD
BEGIN:DAYLIGHT
TZOFFSETFROM:-0600
TZOFFSETTO:-0500
TZNAME:CDT
DTSTART:20250309T080000
END:DAYLIGHT
BEGIN:STANDARD
TZOFFSETFROM:-0500
TZOFFSETTO:-0600
TZNAME:CST
DTSTART:20251102T070000
END:STANDARD
END:VTIMEZONE
BEGIN:VEVENT
DTSTART;TZID=America/Chicago:20240705T140000
DTEND;TZID=America/Chicago:20240705T160000
DTSTAMP:20260419T133958
CREATED:20240521T191249Z
LAST-MODIFIED:20240521T191249Z
UID:702-1720188000-1720195200@www.texasheritagevineyard.com
SUMMARY:Live Music Featuring: Austin Mayse and Tressie Seegers
DESCRIPTION:
URL:https://www.texasheritagevineyard.com/event/live-music-featuring-austin-mayse-and-tressie-seegers/
LOCATION:Texas Heritage Vineyard Tasting Room
END:VEVENT
BEGIN:VEVENT
DTSTART;TZID=America/Chicago:20240706T140000
DTEND;TZID=America/Chicago:20240706T160000
DTSTAMP:20260419T133958
CREATED:20240521T193131Z
LAST-MODIFIED:20240521T193131Z
UID:703-1720274400-1720281600@www.texasheritagevineyard.com
SUMMARY:Live Music Featuring: Bryan Maldonado
DESCRIPTION:
URL:https://www.texasheritagevineyard.com/event/live-music-featuring-bryan-maldonado-3/
LOCATION:Texas Heritage Vineyard Tasting Room
END:VEVENT
BEGIN:VEVENT
DTSTART;TZID=America/Chicago:20240712T140000
DTEND;TZID=America/Chicago:20240712T160000
DTSTAMP:20260419T133958
CREATED:20240708T154136Z
LAST-MODIFIED:20240708T154136Z
UID:712-1720792800-1720800000@www.texasheritagevineyard.com
SUMMARY:Live Music Featuring: Sean McHargue of the Ransom Brothers
DESCRIPTION:
URL:https://www.texasheritagevineyard.com/event/live-music-featuring-sean-mchargue-of-the-ransom-brothers/
LOCATION:Texas Heritage Vineyard Tasting Room
END:VEVENT
BEGIN:VEVENT
DTSTART;TZID=America/Chicago:20240714T140000
DTEND;TZID=America/Chicago:20240714T160000
DTSTAMP:20260419T133958
CREATED:20240708T154216Z
LAST-MODIFIED:20240708T154216Z
UID:713-1720965600-1720972800@www.texasheritagevineyard.com
SUMMARY:Live Music Featuring: ShAnnie
DESCRIPTION:
URL:https://www.texasheritagevineyard.com/event/live-music-featuring-shannie-8/
LOCATION:Texas Heritage Vineyard Tasting Room
END:VEVENT
BEGIN:VEVENT
DTSTART;TZID=America/Chicago:20240718T140000
DTEND;TZID=America/Chicago:20240718T160000
DTSTAMP:20260419T133958
CREATED:20240708T154300Z
LAST-MODIFIED:20240708T154300Z
UID:714-1721311200-1721318400@www.texasheritagevineyard.com
SUMMARY:July Happy Hour and Picker's Circle
DESCRIPTION:
URL:https://www.texasheritagevineyard.com/event/july-happy-hour-and-pickers-circle/
LOCATION:Texas Heritage Vineyard Tasting Room
END:VEVENT
BEGIN:VEVENT
DTSTART;TZID=America/Chicago:20240719T140000
DTEND;TZID=America/Chicago:20240719T160000
DTSTAMP:20260419T133958
CREATED:20240708T154336Z
LAST-MODIFIED:20240708T154336Z
UID:715-1721397600-1721404800@www.texasheritagevineyard.com
SUMMARY:Live Music Featuring: Jake Martin and Jake McLain
DESCRIPTION:
URL:https://www.texasheritagevineyard.com/event/live-music-featuring-jake-martin-and-jake-mclain/
LOCATION:Texas Heritage Vineyard Tasting Room
END:VEVENT
BEGIN:VEVENT
DTSTART;TZID=America/Chicago:20240721T140000
DTEND;TZID=America/Chicago:20240721T160000
DTSTAMP:20260419T133958
CREATED:20240708T154412Z
LAST-MODIFIED:20240708T154412Z
UID:716-1721570400-1721577600@www.texasheritagevineyard.com
SUMMARY:Live Music Featuring: Woody Eastman
DESCRIPTION:
URL:https://www.texasheritagevineyard.com/event/live-music-featuring-woody-eastman-6/
LOCATION:Texas Heritage Vineyard Tasting Room
END:VEVENT
BEGIN:VEVENT
DTSTART;TZID=America/Chicago:20240726T140000
DTEND;TZID=America/Chicago:20240726T160000
DTSTAMP:20260419T133958
CREATED:20240708T154442Z
LAST-MODIFIED:20240708T154442Z
UID:717-1722002400-1722009600@www.texasheritagevineyard.com
SUMMARY:Live Music Featuring: Anthony Garcia
DESCRIPTION:
URL:https://www.texasheritagevineyard.com/event/live-music-featuring-anthony-garcia-6/
LOCATION:Texas Heritage Vineyard Tasting Room
END:VEVENT
BEGIN:VEVENT
DTSTART;TZID=America/Chicago:20240728T140000
DTEND;TZID=America/Chicago:20240728T160000
DTSTAMP:20260419T133958
CREATED:20240708T154519Z
LAST-MODIFIED:20240708T154519Z
UID:718-1722175200-1722182400@www.texasheritagevineyard.com
SUMMARY:Live Music Featuring: Mike Blakely
DESCRIPTION:
URL:https://www.texasheritagevineyard.com/event/live-music-featuring-mike-blakely-7/
LOCATION:Texas Heritage Vineyard Tasting Room
END:VEVENT
END:VCALENDAR