BEGIN:VCALENDAR
VERSION:2.0
PRODID:-//Texas Heritage Vineyards - ECPv6.15.20//NONSGML v1.0//EN
CALSCALE:GREGORIAN
METHOD:PUBLISH
X-WR-CALNAME:Texas Heritage Vineyards
X-ORIGINAL-URL:https://www.texasheritagevineyard.com
X-WR-CALDESC:Events for Texas Heritage Vineyards
REFRESH-INTERVAL;VALUE=DURATION:PT1H
X-Robots-Tag:noindex
X-PUBLISHED-TTL:PT1H
BEGIN:VTIMEZONE
TZID:America/Chicago
BEGIN:DAYLIGHT
TZOFFSETFROM:-0600
TZOFFSETTO:-0500
TZNAME:CDT
DTSTART:20240310T080000
END:DAYLIGHT
BEGIN:STANDARD
TZOFFSETFROM:-0500
TZOFFSETTO:-0600
TZNAME:CST
DTSTART:20241103T070000
END:STANDARD
BEGIN:DAYLIGHT
TZOFFSETFROM:-0600
TZOFFSETTO:-0500
TZNAME:CDT
DTSTART:20250309T080000
END:DAYLIGHT
BEGIN:STANDARD
TZOFFSETFROM:-0500
TZOFFSETTO:-0600
TZNAME:CST
DTSTART:20251102T070000
END:STANDARD
BEGIN:DAYLIGHT
TZOFFSETFROM:-0600
TZOFFSETTO:-0500
TZNAME:CDT
DTSTART:20260308T080000
END:DAYLIGHT
BEGIN:STANDARD
TZOFFSETFROM:-0500
TZOFFSETTO:-0600
TZNAME:CST
DTSTART:20261101T070000
END:STANDARD
END:VTIMEZONE
BEGIN:VEVENT
DTSTART;TZID=America/Chicago:20250706T140000
DTEND;TZID=America/Chicago:20250706T160000
DTSTAMP:20260419T124250
CREATED:20250514T163200Z
LAST-MODIFIED:20250630T181453Z
UID:887-1751810400-1751817600@www.texasheritagevineyard.com
SUMMARY:Live Music Featuring: The Kenny Grimes Trio
DESCRIPTION:
URL:https://www.texasheritagevineyard.com/event/live-music-featuring-josh-kristi-grider-5/
LOCATION:Texas Heritage Vineyard Tasting Room
END:VEVENT
BEGIN:VEVENT
DTSTART;TZID=America/Chicago:20250711T140000
DTEND;TZID=America/Chicago:20250711T160000
DTSTAMP:20260419T124250
CREATED:20250514T163258Z
LAST-MODIFIED:20250514T163258Z
UID:888-1752242400-1752249600@www.texasheritagevineyard.com
SUMMARY:Live Music Featuring: Bryan Maldonado
DESCRIPTION:
URL:https://www.texasheritagevineyard.com/event/live-music-featuring-bryan-maldonado-12/
LOCATION:Texas Heritage Vineyard Tasting Room
END:VEVENT
BEGIN:VEVENT
DTSTART;TZID=America/Chicago:20250713T140000
DTEND;TZID=America/Chicago:20250713T160000
DTSTAMP:20260419T124250
CREATED:20250514T163329Z
LAST-MODIFIED:20250514T163329Z
UID:889-1752415200-1752422400@www.texasheritagevineyard.com
SUMMARY:Live Music Featuring: Anthony Garcia
DESCRIPTION:
URL:https://www.texasheritagevineyard.com/event/live-music-featuring-anthony-garcia-13/
LOCATION:Texas Heritage Vineyard Tasting Room
END:VEVENT
BEGIN:VEVENT
DTSTART;TZID=America/Chicago:20250718T140000
DTEND;TZID=America/Chicago:20250718T160000
DTSTAMP:20260419T124250
CREATED:20250514T163400Z
LAST-MODIFIED:20250514T163400Z
UID:890-1752847200-1752854400@www.texasheritagevineyard.com
SUMMARY:Live Music Featuring: Kelley Mickwee
DESCRIPTION:
URL:https://www.texasheritagevineyard.com/event/live-music-featuring-kelley-mickwee-2/
LOCATION:Texas Heritage Vineyard Tasting Room
END:VEVENT
BEGIN:VEVENT
DTSTART;TZID=America/Chicago:20250720T140000
DTEND;TZID=America/Chicago:20250720T160000
DTSTAMP:20260419T124250
CREATED:20250514T163438Z
LAST-MODIFIED:20250514T163438Z
UID:891-1753020000-1753027200@www.texasheritagevineyard.com
SUMMARY:Live Music Featuring: Mike Blakely
DESCRIPTION:
URL:https://www.texasheritagevineyard.com/event/live-music-featuring-mike-blakely-12/
LOCATION:Texas Heritage Vineyard Tasting Room
END:VEVENT
BEGIN:VEVENT
DTSTART;TZID=America/Chicago:20250725T140000
DTEND;TZID=America/Chicago:20250725T160000
DTSTAMP:20260419T124250
CREATED:20250514T163513Z
LAST-MODIFIED:20250514T163513Z
UID:892-1753452000-1753459200@www.texasheritagevineyard.com
SUMMARY:Live Music Featuring: Surrender Hill
DESCRIPTION:
URL:https://www.texasheritagevineyard.com/event/live-music-featuring-surrender-hill-3/
LOCATION:Texas Heritage Vineyard Tasting Room
END:VEVENT
BEGIN:VEVENT
DTSTART;TZID=America/Chicago:20250725T140000
DTEND;TZID=America/Chicago:20250725T160000
DTSTAMP:20260419T124250
CREATED:20250721T202046Z
LAST-MODIFIED:20250721T202046Z
UID:915-1753452000-1753459200@www.texasheritagevineyard.com
SUMMARY:Live Music Featuring: Tina Wilkins and Ron Flynt
DESCRIPTION:
URL:https://www.texasheritagevineyard.com/event/live-music-featuring-tina-wilkins-and-ron-flynt-4/
LOCATION:Texas Heritage Vineyard Tasting Room
END:VEVENT
BEGIN:VEVENT
DTSTART;TZID=America/Chicago:20250726T140000
DTEND;TZID=America/Chicago:20250726T160000
DTSTAMP:20260419T124250
CREATED:20250514T163549Z
LAST-MODIFIED:20250514T163549Z
UID:893-1753538400-1753545600@www.texasheritagevineyard.com
SUMMARY:Live Music Featuring: Bob Livingston
DESCRIPTION:
URL:https://www.texasheritagevineyard.com/event/live-music-featuring-bob-livingston-4/
LOCATION:Texas Heritage Vineyard Tasting Room
END:VEVENT
BEGIN:VEVENT
DTSTART;TZID=America/Chicago:20250727T140000
DTEND;TZID=America/Chicago:20250727T160000
DTSTAMP:20260419T124250
CREATED:20250514T163623Z
LAST-MODIFIED:20250514T163623Z
UID:894-1753624800-1753632000@www.texasheritagevineyard.com
SUMMARY:Live Music Featuring: Chad Richard
DESCRIPTION:
URL:https://www.texasheritagevineyard.com/event/live-music-featuring-chad-richard-12/
LOCATION:Texas Heritage Vineyard Tasting Room
END:VEVENT
END:VCALENDAR