BEGIN:VCALENDAR
VERSION:2.0
PRODID:-//Texas Heritage Vineyards - ECPv6.15.20//NONSGML v1.0//EN
CALSCALE:GREGORIAN
METHOD:PUBLISH
X-WR-CALNAME:Texas Heritage Vineyards
X-ORIGINAL-URL:https://www.texasheritagevineyard.com
X-WR-CALDESC:Events for Texas Heritage Vineyards
REFRESH-INTERVAL;VALUE=DURATION:PT1H
X-Robots-Tag:noindex
X-PUBLISHED-TTL:PT1H
BEGIN:VTIMEZONE
TZID:America/Chicago
BEGIN:DAYLIGHT
TZOFFSETFROM:-0600
TZOFFSETTO:-0500
TZNAME:CDT
DTSTART:20250309T080000
END:DAYLIGHT
BEGIN:STANDARD
TZOFFSETFROM:-0500
TZOFFSETTO:-0600
TZNAME:CST
DTSTART:20251102T070000
END:STANDARD
BEGIN:DAYLIGHT
TZOFFSETFROM:-0600
TZOFFSETTO:-0500
TZNAME:CDT
DTSTART:20260308T080000
END:DAYLIGHT
BEGIN:STANDARD
TZOFFSETFROM:-0500
TZOFFSETTO:-0600
TZNAME:CST
DTSTART:20261101T070000
END:STANDARD
BEGIN:DAYLIGHT
TZOFFSETFROM:-0600
TZOFFSETTO:-0500
TZNAME:CDT
DTSTART:20270314T080000
END:DAYLIGHT
BEGIN:STANDARD
TZOFFSETFROM:-0500
TZOFFSETTO:-0600
TZNAME:CST
DTSTART:20271107T070000
END:STANDARD
END:VTIMEZONE
BEGIN:VEVENT
DTSTART;TZID=America/Chicago:20260201T140000
DTEND;TZID=America/Chicago:20260201T160000
DTSTAMP:20260421T065921
CREATED:20260114T182902Z
LAST-MODIFIED:20260114T182902Z
UID:1057-1769954400-1769961600@www.texasheritagevineyard.com
SUMMARY:Live Music Featuring: Chad Richard
DESCRIPTION:
URL:https://www.texasheritagevineyard.com/event/live-music-featuring-chad-richard-17/
LOCATION:Texas Heritage Vineyard Tasting Room
END:VEVENT
BEGIN:VEVENT
DTSTART;TZID=America/Chicago:20260206T140000
DTEND;TZID=America/Chicago:20260206T160000
DTSTAMP:20260421T065921
CREATED:20260114T183038Z
LAST-MODIFIED:20260114T183038Z
UID:1058-1770386400-1770393600@www.texasheritagevineyard.com
SUMMARY:Live Music Featuring: Woody Eastman & Julia Hatfield
DESCRIPTION:
URL:https://www.texasheritagevineyard.com/event/live-music-featuring-woody-eastman-julia-hatfield/
LOCATION:Texas Heritage Vineyard Tasting Room
END:VEVENT
BEGIN:VEVENT
DTSTART;TZID=America/Chicago:20260208T140000
DTEND;TZID=America/Chicago:20260208T160000
DTSTAMP:20260421T065921
CREATED:20260114T183133Z
LAST-MODIFIED:20260114T183133Z
UID:1059-1770559200-1770566400@www.texasheritagevineyard.com
SUMMARY:Live Music Featuring: Walt Wilkins
DESCRIPTION:
URL:https://www.texasheritagevineyard.com/event/live-music-featuring-walt-wilkins-9/
LOCATION:Texas Heritage Vineyard Tasting Room
END:VEVENT
BEGIN:VEVENT
DTSTART;TZID=America/Chicago:20260213T140000
DTEND;TZID=America/Chicago:20260213T160000
DTSTAMP:20260421T065921
CREATED:20260114T183208Z
LAST-MODIFIED:20260114T183208Z
UID:1060-1770991200-1770998400@www.texasheritagevineyard.com
SUMMARY:Live Music Featuring: Mike Blakely
DESCRIPTION:
URL:https://www.texasheritagevineyard.com/event/live-music-featuring-mike-blakely-17/
LOCATION:Texas Heritage Vineyard Tasting Room
END:VEVENT
BEGIN:VEVENT
DTSTART;TZID=America/Chicago:20260215T140000
DTEND;TZID=America/Chicago:20260215T160000
DTSTAMP:20260421T065921
CREATED:20260114T183255Z
LAST-MODIFIED:20260114T183255Z
UID:1061-1771164000-1771171200@www.texasheritagevineyard.com
SUMMARY:Live Music Featuring: Two Crows for Comfort (Fabulous duo from Canada!)
DESCRIPTION:
URL:https://www.texasheritagevineyard.com/event/live-music-featuring-two-crows-for-comfort-fabulous-duo-from-canada/
LOCATION:Texas Heritage Vineyard Tasting Room
END:VEVENT
BEGIN:VEVENT
DTSTART;TZID=America/Chicago:20260220T140000
DTEND;TZID=America/Chicago:20260220T160000
DTSTAMP:20260421T065921
CREATED:20260114T183325Z
LAST-MODIFIED:20260114T183325Z
UID:1062-1771596000-1771603200@www.texasheritagevineyard.com
SUMMARY:Live Music Featuring: Jake Martin and Jake McLain
DESCRIPTION:
URL:https://www.texasheritagevineyard.com/event/live-music-featuring-jake-martin-and-jake-mclain-2/
LOCATION:Texas Heritage Vineyard Tasting Room
END:VEVENT
BEGIN:VEVENT
DTSTART;TZID=America/Chicago:20260222T140000
DTEND;TZID=America/Chicago:20260222T160000
DTSTAMP:20260421T065921
CREATED:20260114T183359Z
LAST-MODIFIED:20260114T183359Z
UID:1063-1771768800-1771776000@www.texasheritagevineyard.com
SUMMARY:Live Music Featuring: John Arthur Martinez
DESCRIPTION:
URL:https://www.texasheritagevineyard.com/event/live-music-featuring-john-arthur-martinez-5/
LOCATION:Texas Heritage Vineyard Tasting Room
END:VEVENT
BEGIN:VEVENT
DTSTART;TZID=America/Chicago:20260227T140000
DTEND;TZID=America/Chicago:20260227T160000
DTSTAMP:20260421T065921
CREATED:20260114T183506Z
LAST-MODIFIED:20260114T183506Z
UID:1064-1772200800-1772208000@www.texasheritagevineyard.com
SUMMARY:Live Music Featuring: Anthony Garcia
DESCRIPTION:
URL:https://www.texasheritagevineyard.com/event/live-music-featuring-anthony-garcia-19/
LOCATION:Texas Heritage Vineyard Tasting Room
END:VEVENT
END:VCALENDAR