BEGIN:VCALENDAR
VERSION:2.0
PRODID:-//Texas Heritage Vineyards - ECPv6.15.20//NONSGML v1.0//EN
CALSCALE:GREGORIAN
METHOD:PUBLISH
X-WR-CALNAME:Texas Heritage Vineyards
X-ORIGINAL-URL:https://www.texasheritagevineyard.com
X-WR-CALDESC:Events for Texas Heritage Vineyards
REFRESH-INTERVAL;VALUE=DURATION:PT1H
X-Robots-Tag:noindex
X-PUBLISHED-TTL:PT1H
BEGIN:VTIMEZONE
TZID:America/Chicago
BEGIN:DAYLIGHT
TZOFFSETFROM:-0600
TZOFFSETTO:-0500
TZNAME:CDT
DTSTART:20250309T080000
END:DAYLIGHT
BEGIN:STANDARD
TZOFFSETFROM:-0500
TZOFFSETTO:-0600
TZNAME:CST
DTSTART:20251102T070000
END:STANDARD
BEGIN:DAYLIGHT
TZOFFSETFROM:-0600
TZOFFSETTO:-0500
TZNAME:CDT
DTSTART:20260308T080000
END:DAYLIGHT
BEGIN:STANDARD
TZOFFSETFROM:-0500
TZOFFSETTO:-0600
TZNAME:CST
DTSTART:20261101T070000
END:STANDARD
BEGIN:DAYLIGHT
TZOFFSETFROM:-0600
TZOFFSETTO:-0500
TZNAME:CDT
DTSTART:20270314T080000
END:DAYLIGHT
BEGIN:STANDARD
TZOFFSETFROM:-0500
TZOFFSETTO:-0600
TZNAME:CST
DTSTART:20271107T070000
END:STANDARD
END:VTIMEZONE
BEGIN:VEVENT
DTSTART;TZID=America/Chicago:20260301T140000
DTEND;TZID=America/Chicago:20260301T160000
DTSTAMP:20260421T083037
CREATED:20260226T193024Z
LAST-MODIFIED:20260226T193024Z
UID:1065-1772373600-1772380800@www.texasheritagevineyard.com
SUMMARY:Live Music Featuring: Dan West
DESCRIPTION:
URL:https://www.texasheritagevineyard.com/event/live-music-featuring-dan-west-16/
LOCATION:Texas Heritage Vineyard Tasting Room
END:VEVENT
BEGIN:VEVENT
DTSTART;TZID=America/Chicago:20260306T140000
DTEND;TZID=America/Chicago:20260306T160000
DTSTAMP:20260421T083037
CREATED:20260226T193146Z
LAST-MODIFIED:20260226T193146Z
UID:1066-1772805600-1772812800@www.texasheritagevineyard.com
SUMMARY:Live Music Featuring: Bo Depena
DESCRIPTION:
URL:https://www.texasheritagevineyard.com/event/live-music-featuring-bo-depena-2/
LOCATION:Texas Heritage Vineyard Tasting Room
END:VEVENT
BEGIN:VEVENT
DTSTART;TZID=America/Chicago:20260308T120000
DTEND;TZID=America/Chicago:20260308T160000
DTSTAMP:20260421T083037
CREATED:20260305T171251Z
LAST-MODIFIED:20260305T171251Z
UID:1085-1772971200-1772985600@www.texasheritagevineyard.com
SUMMARY:Spring Wine Club Pick-Up Party!
DESCRIPTION:
URL:https://www.texasheritagevineyard.com/event/spring-wine-club-pick-up-party-3/
LOCATION:Texas Heritage Vineyard/Winery\, 3750 Grapetown Rd\, Fredericksburg\, TX\, 78624\, United States
END:VEVENT
BEGIN:VEVENT
DTSTART;TZID=America/Chicago:20260308T140000
DTEND;TZID=America/Chicago:20260308T160000
DTSTAMP:20260421T083037
CREATED:20260226T193550Z
LAST-MODIFIED:20260226T193550Z
UID:1069-1772978400-1772985600@www.texasheritagevineyard.com
SUMMARY:Wine Club Pick-Up Party w/ live music by Anthony Garcia
DESCRIPTION:
URL:https://www.texasheritagevineyard.com/event/wine-club-pick-up-party-w-live-music-by-anthony-garcia/
LOCATION:Texas Heritage Vineyard/Winery\, 3750 Grapetown Rd\, Fredericksburg\, TX\, 78624\, United States
END:VEVENT
BEGIN:VEVENT
DTSTART;VALUE=DATE:20260311
DTEND;VALUE=DATE:20260312
DTSTAMP:20260421T083037
CREATED:20260305T171446Z
LAST-MODIFIED:20260305T171446Z
UID:1086-1773187200-1773273599@www.texasheritagevineyard.com
SUMMARY:$1 Wing Wednesday!
DESCRIPTION:Join us every Wednesday for wine and $1 wings.
URL:https://www.texasheritagevineyard.com/event/1-wing-wednesday/
LOCATION:Texas Heritage Vineyard Tasting Room
END:VEVENT
BEGIN:VEVENT
DTSTART;TZID=America/Chicago:20260312T170000
DTEND;TZID=America/Chicago:20260312T193000
DTSTAMP:20260421T083037
CREATED:20260305T171211Z
LAST-MODIFIED:20260305T171211Z
UID:1084-1773334800-1773343800@www.texasheritagevineyard.com
SUMMARY:Bingo and Vino for a Cause!
DESCRIPTION:
URL:https://www.texasheritagevineyard.com/event/bingo-and-vino-for-a-cause-6/
LOCATION:Texas Heritage Vineyard Tasting Room
END:VEVENT
BEGIN:VEVENT
DTSTART;TZID=America/Chicago:20260313T140000
DTEND;TZID=America/Chicago:20260313T160000
DTSTAMP:20260421T083037
CREATED:20260226T193225Z
LAST-MODIFIED:20260226T193225Z
UID:1067-1773410400-1773417600@www.texasheritagevineyard.com
SUMMARY:Live Music Featuring: Kelley Mickwee
DESCRIPTION:
URL:https://www.texasheritagevineyard.com/event/live-music-featuring-kelley-mickwee-4/
LOCATION:Texas Heritage Vineyard Tasting Room
END:VEVENT
BEGIN:VEVENT
DTSTART;TZID=America/Chicago:20260315T140000
DTEND;TZID=America/Chicago:20260315T160000
DTSTAMP:20260421T083037
CREATED:20260226T193450Z
LAST-MODIFIED:20260226T193450Z
UID:1068-1773583200-1773590400@www.texasheritagevineyard.com
SUMMARY:Live Music Featuring: Andie Kay Joyner
DESCRIPTION:
URL:https://www.texasheritagevineyard.com/event/live-music-featuring-andie-kay-joyner-5/
LOCATION:Texas Heritage Vineyard Tasting Room
END:VEVENT
BEGIN:VEVENT
DTSTART;VALUE=DATE:20260318
DTEND;VALUE=DATE:20260319
DTSTAMP:20260421T083037
CREATED:20260305T171551Z
LAST-MODIFIED:20260305T171551Z
UID:1087-1773792000-1773878399@www.texasheritagevineyard.com
SUMMARY:$1 Wing Wednesday!
DESCRIPTION:Join us every Wednesday for wine and $1 wings.
URL:https://www.texasheritagevineyard.com/event/1-wing-wednesday-2/
LOCATION:Texas Heritage Vineyard Tasting Room
END:VEVENT
BEGIN:VEVENT
DTSTART;TZID=America/Chicago:20260320T140000
DTEND;TZID=America/Chicago:20260320T160000
DTSTAMP:20260421T083037
CREATED:20260226T193642Z
LAST-MODIFIED:20260226T193642Z
UID:1070-1774015200-1774022400@www.texasheritagevineyard.com
SUMMARY:Live Music Featuring: Woody Eastman & T-Roy Miller
DESCRIPTION:
URL:https://www.texasheritagevineyard.com/event/live-music-featuring-woody-eastman-t-roy-miller/
LOCATION:Texas Heritage Vineyard Tasting Room
END:VEVENT
BEGIN:VEVENT
DTSTART;TZID=America/Chicago:20260322T140000
DTEND;TZID=America/Chicago:20260322T160000
DTSTAMP:20260421T083037
CREATED:20260226T193728Z
LAST-MODIFIED:20260226T193728Z
UID:1071-1774188000-1774195200@www.texasheritagevineyard.com
SUMMARY:Live Music Featuring: Kenny Grimes Trio
DESCRIPTION:
URL:https://www.texasheritagevineyard.com/event/live-music-featuring-kenny-grimes-trio-3/
LOCATION:Texas Heritage Vineyard Tasting Room
END:VEVENT
BEGIN:VEVENT
DTSTART;TZID=America/Chicago:20260327T140000
DTEND;TZID=America/Chicago:20260327T160000
DTSTAMP:20260421T083037
CREATED:20260226T193809Z
LAST-MODIFIED:20260226T193809Z
UID:1072-1774620000-1774627200@www.texasheritagevineyard.com
SUMMARY:Live Music Featuring: John Arthur Martinez
DESCRIPTION:
URL:https://www.texasheritagevineyard.com/event/live-music-featuring-john-arthur-martinez-6/
LOCATION:Texas Heritage Vineyard Tasting Room
END:VEVENT
BEGIN:VEVENT
DTSTART;TZID=America/Chicago:20260329T140000
DTEND;TZID=America/Chicago:20260329T160000
DTSTAMP:20260421T083037
CREATED:20260226T193921Z
LAST-MODIFIED:20260226T193921Z
UID:1073-1774792800-1774800000@www.texasheritagevineyard.com
SUMMARY:Live Music Featuring: Tina Wilkins and Ron Flynt
DESCRIPTION:
URL:https://www.texasheritagevineyard.com/event/live-music-featuring-tina-wilkins-and-ron-flynt-5/
LOCATION:Texas Heritage Vineyard Tasting Room
END:VEVENT
END:VCALENDAR